BEGIN:VCALENDAR
VERSION:2.0
PRODID:-//Gemeinschaftsschule Ludwigsburg - ECPv5.14.1//NONSGML v1.0//EN
CALSCALE:GREGORIAN
METHOD:PUBLISH
X-WR-CALNAME:Gemeinschaftsschule Ludwigsburg
X-ORIGINAL-URL:https://www.gemeinschaftsschule-innenstadt-lb.de
X-WR-CALDESC:Events for Gemeinschaftsschule Ludwigsburg
REFRESH-INTERVAL;VALUE=DURATION:PT1H
X-Robots-Tag:noindex
X-PUBLISHED-TTL:PT1H
BEGIN:VTIMEZONE
TZID:UTC
BEGIN:STANDARD
TZOFFSETFROM:+0000
TZOFFSETTO:+0000
TZNAME:UTC
DTSTART:20260101T000000
END:STANDARD
END:VTIMEZONE
BEGIN:VEVENT
DTSTART;VALUE=DATE:20260423
DTEND;VALUE=DATE:20260424
DTSTAMP:20260423T104950
CREATED:20250106T104740Z
LAST-MODIFIED:20250921T113750Z
UID:3048-1776902400-1776988799@www.gemeinschaftsschule-innenstadt-lb.de
SUMMARY:Girls- und Boys-Day
DESCRIPTION:
URL:https://www.gemeinschaftsschule-innenstadt-lb.de/termin/girls-und-boys-day-2/
END:VEVENT
BEGIN:VEVENT
DTSTART;VALUE=DATE:20260424
DTEND;VALUE=DATE:20260425
DTSTAMP:20260423T104950
CREATED:20250106T112807Z
LAST-MODIFIED:20250921T122525Z
UID:3082-1776988800-1777075199@www.gemeinschaftsschule-innenstadt-lb.de
SUMMARY:Sportfest im Jubiläumsjahr
DESCRIPTION:10 Jahre Gemeinschaftsschule Innenstadt.\nDas wollen wir auch mit einem Sportfest feiern!
URL:https://www.gemeinschaftsschule-innenstadt-lb.de/termin/sportfest-im-rahmen-der-bundesjugendspiele/
END:VEVENT
BEGIN:VEVENT
DTSTART;TZID=UTC:20260430T183000
DTEND;TZID=UTC:20260430T200000
DTSTAMP:20260423T104950
CREATED:20250106T105312Z
LAST-MODIFIED:20250921T113639Z
UID:3052-1777573800-1777579200@www.gemeinschaftsschule-innenstadt-lb.de
SUMMARY:Schulkonferenz
DESCRIPTION:Die Sitzung findet wie gewohnt in unserer Aula (Raum 0.02) statt.
URL:https://www.gemeinschaftsschule-innenstadt-lb.de/termin/schulkonferenz-4/
END:VEVENT
BEGIN:VEVENT
DTSTART;VALUE=DATE:20260508
DTEND;VALUE=DATE:20260509
DTSTAMP:20260423T104950
CREATED:20250106T105750Z
LAST-MODIFIED:20250921T113326Z
UID:3056-1778198400-1778284799@www.gemeinschaftsschule-innenstadt-lb.de
SUMMARY:Abschlussprüfungen Deutsch
DESCRIPTION:
URL:https://www.gemeinschaftsschule-innenstadt-lb.de/termin/abschlusspruefungen-deutsch-2/
END:VEVENT
BEGIN:VEVENT
DTSTART;VALUE=DATE:20260512
DTEND;VALUE=DATE:20260513
DTSTAMP:20260423T104950
CREATED:20250106T110009Z
LAST-MODIFIED:20250921T113206Z
UID:3060-1778544000-1778630399@www.gemeinschaftsschule-innenstadt-lb.de
SUMMARY:Abschlussprüfungen Mathematik
DESCRIPTION:
URL:https://www.gemeinschaftsschule-innenstadt-lb.de/termin/abschlusspruefung-mathematik-2/
END:VEVENT
BEGIN:VEVENT
DTSTART;VALUE=DATE:20260518
DTEND;VALUE=DATE:20260523
DTSTAMP:20260423T104950
CREATED:20250106T105617Z
LAST-MODIFIED:20250921T113443Z
UID:3054-1779062400-1779494399@www.gemeinschaftsschule-innenstadt-lb.de
SUMMARY:Praktikumswoche der Jahrgangsstufen 8-10
DESCRIPTION:Alle Lernenden der Stufen 8 – 10\, welche keine Prüfiung absolvieren\,\nsammeln in dieser Woche zusätzliche Erfahrungen für ihren weiteren beruflichen bzw. schulischen\nWeg.
URL:https://www.gemeinschaftsschule-innenstadt-lb.de/termin/praktikumswoche-der-jahrgangsstufen-8-10/
END:VEVENT
BEGIN:VEVENT
DTSTART;VALUE=DATE:20260519
DTEND;VALUE=DATE:20260520
DTSTAMP:20260423T104950
CREATED:20250106T105856Z
LAST-MODIFIED:20250921T113252Z
UID:3058-1779148800-1779235199@www.gemeinschaftsschule-innenstadt-lb.de
SUMMARY:Abschlussprüfungen Englisch
DESCRIPTION:
URL:https://www.gemeinschaftsschule-innenstadt-lb.de/termin/abschlusspruefungen-englisch/
END:VEVENT
BEGIN:VEVENT
DTSTART;VALUE=DATE:20260521
DTEND;VALUE=DATE:20260522
DTSTAMP:20260423T104950
CREATED:20250106T110252Z
LAST-MODIFIED:20250921T113131Z
UID:3064-1779321600-1779407999@www.gemeinschaftsschule-innenstadt-lb.de
SUMMARY:Abschlussprüfungen in Französisch und den Wahlpflichtfächern
DESCRIPTION:
URL:https://www.gemeinschaftsschule-innenstadt-lb.de/termin/abschlusspruefungen-in-franzoesisch-und-den-wahlpflichtfaechern/
END:VEVENT
BEGIN:VEVENT
DTSTART;VALUE=DATE:20260616
DTEND;VALUE=DATE:20260620
DTSTAMP:20260423T104950
CREATED:20250106T110632Z
LAST-MODIFIED:20250921T112859Z
UID:3067-1781568000-1781913599@www.gemeinschaftsschule-innenstadt-lb.de
SUMMARY:Nachtermine für die schriftlichen Prüfungen
DESCRIPTION:16.06.2026: Deutsch\n17.06.2026: Mathematik\n18.06.2026: Englisch\n19.06.2026: Französisch und Wahlpflichtfächer \n 
URL:https://www.gemeinschaftsschule-innenstadt-lb.de/termin/nachtermine-fuer-die-schriftlichen-pruefungen/
END:VEVENT
BEGIN:VEVENT
DTSTART;VALUE=DATE:20260617
DTEND;VALUE=DATE:20260618
DTSTAMP:20260423T104950
CREATED:20250106T111133Z
LAST-MODIFIED:20250921T113003Z
UID:3069-1781654400-1781740799@www.gemeinschaftsschule-innenstadt-lb.de
SUMMARY:Generationenaustausch in der Jahrgangsstufe 7
DESCRIPTION:Bildungspartner und Eltern informieren\nunsere Lernenden der Jahrgangsstufe 7 innerhalb kleinster\nGruppen in einem vertrauten Rahmen über verschiedenste Berufe\nund Karrierewege.
URL:https://www.gemeinschaftsschule-innenstadt-lb.de/termin/generationenaustausch-in-der-jahrgangsstufe-7/
END:VEVENT
BEGIN:VEVENT
DTSTART;VALUE=DATE:20260629
DTEND;VALUE=DATE:20260704
DTSTAMP:20260423T104950
CREATED:20250106T111244Z
LAST-MODIFIED:20250921T112423Z
UID:3071-1782691200-1783123199@www.gemeinschaftsschule-innenstadt-lb.de
SUMMARY:Schullandheim Jahrgangsstufe 7
DESCRIPTION:
URL:https://www.gemeinschaftsschule-innenstadt-lb.de/termin/schullandheim-klassenstufe-7/
END:VEVENT
BEGIN:VEVENT
DTSTART;TZID=UTC:20260713T140000
DTEND;TZID=UTC:20260713T173000
DTSTAMP:20260423T104950
CREATED:20250106T111447Z
LAST-MODIFIED:20250921T112154Z
UID:3074-1783951200-1783963800@www.gemeinschaftsschule-innenstadt-lb.de
SUMMARY:LEB-Konferenzen
DESCRIPTION:
URL:https://www.gemeinschaftsschule-innenstadt-lb.de/termin/leb-konferenzen-2/
END:VEVENT
BEGIN:VEVENT
DTSTART;VALUE=DATE:20260716
DTEND;VALUE=DATE:20260725
DTSTAMP:20260423T104950
CREATED:20250106T112457Z
LAST-MODIFIED:20250921T111452Z
UID:3080-1784160000-1784937599@www.gemeinschaftsschule-innenstadt-lb.de
SUMMARY:Projekttage zum Themenbereich Bildung für Nachhaltige Entwicklung
DESCRIPTION:In diesem Schuljahr wollen wir uns während den Projekttagen\nbesonders dem Thema „10 Jahre Gemeinschaftsschule Innenstadt“ widmen.
URL:https://www.gemeinschaftsschule-innenstadt-lb.de/termin/projekttage-zum-themenbereich-bildung-fuer-nachhaltige-entwicklung/
END:VEVENT
BEGIN:VEVENT
DTSTART;VALUE=DATE:20260717
DTEND;VALUE=DATE:20260718
DTSTAMP:20260423T104950
CREATED:20250106T112116Z
LAST-MODIFIED:20250921T111723Z
UID:3078-1784246400-1784332799@www.gemeinschaftsschule-innenstadt-lb.de
SUMMARY:Abschlussfeier der Jahrgangsstufen 9 und 10
DESCRIPTION:An diesem Tag würdigen wir gemeinsam mit unseren Absolvent:innen\nund ihren Familien die Leistungen der Schüler:innen aus den Abschlussklassen.
URL:https://www.gemeinschaftsschule-innenstadt-lb.de/termin/abschlussfeier-der-jahrgangsstufen-9-und-10/
END:VEVENT
BEGIN:VEVENT
DTSTART;VALUE=DATE:20260728
DTEND;VALUE=DATE:20260729
DTSTAMP:20260423T104950
CREATED:20250106T112857Z
LAST-MODIFIED:20250921T111101Z
UID:3084-1785196800-1785283199@www.gemeinschaftsschule-innenstadt-lb.de
SUMMARY:Wandertag
DESCRIPTION:
URL:https://www.gemeinschaftsschule-innenstadt-lb.de/termin/wandertag-2/
END:VEVENT
BEGIN:VEVENT
DTSTART;VALUE=DATE:20260729
DTEND;VALUE=DATE:20260730
DTSTAMP:20260423T104950
CREATED:20250106T113131Z
LAST-MODIFIED:20250921T111128Z
UID:3086-1785283200-1785369599@www.gemeinschaftsschule-innenstadt-lb.de
SUMMARY:Ausgabe der Lernentwicklungsberichte
DESCRIPTION:
URL:https://www.gemeinschaftsschule-innenstadt-lb.de/termin/ausgabe-der-lernentwicklungsberichte-2/
END:VEVENT
BEGIN:VEVENT
DTSTART;TZID=UTC:20260915T140000
DTEND;TZID=UTC:20260915T173000
DTSTAMP:20260423T104950
CREATED:20250921T112300Z
LAST-MODIFIED:20250921T112300Z
UID:3183-1789480800-1789493400@www.gemeinschaftsschule-innenstadt-lb.de
SUMMARY:LEB-Konferenzen
DESCRIPTION:
URL:https://www.gemeinschaftsschule-innenstadt-lb.de/termin/leb-konferenzen-3/
END:VEVENT
BEGIN:VEVENT
DTSTART;VALUE=DATE:20260922
DTEND;VALUE=DATE:20261011
DTSTAMP:20260423T104950
CREATED:20210922T161008Z
LAST-MODIFIED:20250921T122648Z
UID:1387-1790035200-1791676799@www.gemeinschaftsschule-innenstadt-lb.de
SUMMARY:Lernstand 5 - Deutsch & Mathematik
DESCRIPTION:
URL:https://www.gemeinschaftsschule-innenstadt-lb.de/termin/lernstand-5-deutsch-mathematik/
END:VEVENT
END:VCALENDAR